BEGIN:VCALENDAR
VERSION:2.0
PRODID:-//217.160.0.82//NONSGML kigkonsult.se iCalcreator 2.26.9//
CALSCALE:GREGORIAN
METHOD:PUBLISH
X-FROM-URL:https://www.taekwondotoscana.it
X-WR-TIMEZONE:Europe/Rome
BEGIN:VTIMEZONE
TZID:Europe/Rome
X-LIC-LOCATION:Europe/Rome
BEGIN:STANDARD
DTSTART:20251026T030000
TZOFFSETFROM:+0200
TZOFFSETTO:+0100
RDATE:20261025T030000
TZNAME:CET
END:STANDARD
BEGIN:DAYLIGHT
DTSTART:20260329T020000
TZOFFSETFROM:+0100
TZOFFSETTO:+0200
RDATE:20270328T020000
TZNAME:CEST
END:DAYLIGHT
END:VTIMEZONE
BEGIN:VEVENT
UID:ai1ec-6309@www.taekwondotoscana.it
DTSTAMP:20260424T092050Z
CATEGORIES:
CONTACT:
DESCRIPTION:
DTSTART;VALUE=DATE:20230513
DTEND;VALUE=DATE:20230514
LOCATION:Castiglion Fiorentino
SEQUENCE:0
SUMMARY:Campionato regionale combattimento
URL:https://www.taekwondotoscana.it/evento/campionato-regionale-combattimen
 to-3/
X-COST-TYPE:free
END:VEVENT
BEGIN:VEVENT
UID:ai1ec-6291@www.taekwondotoscana.it
DTSTAMP:20260424T092050Z
CATEGORIES:
CONTACT:
DESCRIPTION:
DTSTART;VALUE=DATE:20231028
DTEND;VALUE=DATE:20231030
SEQUENCE:0
SUMMARY:Tuscany Open 2023
URL:https://www.taekwondotoscana.it/evento/tuscany-open-2023/
X-COST-TYPE:free
END:VEVENT
BEGIN:VEVENT
UID:ai1ec-6503@www.taekwondotoscana.it
DTSTAMP:20260424T092050Z
CATEGORIES:
CONTACT:Lorenzo\; consigliere.biffoli@taekwondotoscana.it\; https://www.tae
 kwondotoscana.it/tuscanyopen/
DESCRIPTION:<p>INFO e bando di gara: <a href='https://www.taekwondotoscana.
 it/tuscanyopen/'>https://www.taekwondotoscana.it/tuscanyopen/</a></p>\n<p>
 Biglietti:<a class='ai1ec-ticket-url-exported' href='https://tesseramento.
 taekwondowtf.it'>https://tesseramento.taekwondowtf.it</a>.</p>
DTSTART;VALUE=DATE:20241012
DTEND;VALUE=DATE:20241014
LOCATION:Palasport Estra 'Mario d'Agata' @ Via Golgi - Arezzo
SEQUENCE:0
SUMMARY:Tuscany Open 2024
URL:https://www.taekwondotoscana.it/evento/tuscany-open-2024/
X-COST-TYPE:external
X-TICKETS-URL:https://tesseramento.taekwondowtf.it
END:VEVENT
BEGIN:VEVENT
UID:ai1ec-6570@www.taekwondotoscana.it
DTSTAMP:20260424T092050Z
CATEGORIES:
CONTACT:
DESCRIPTION:
DTSTART;VALUE=DATE:20251018
DTEND;VALUE=DATE:20251020
LOCATION:Palasport Estra 'Mario d'Agata' @ Via Golgi 35 - Arezzo
SEQUENCE:0
SUMMARY:Tuscany Open 2025
URL:https://www.taekwondotoscana.it/evento/tuscany-open-2025/
X-COST-TYPE:free
END:VEVENT
BEGIN:VEVENT
UID:ai1ec-6572@www.taekwondotoscana.it
DTSTAMP:20260424T092050Z
CATEGORIES:
CONTACT:Gennaro
DESCRIPTION:
DTSTART;VALUE=DATE:20251101
DTEND;VALUE=DATE:20251103
LOCATION:Taekyon Club @ Tegoleto (AR)
SEQUENCE:0
SUMMARY:Stage di selezione Tuscany Team Forme e Freestyle
URL:https://www.taekwondotoscana.it/evento/stage-di-selezione-tuscany-team-
 forme-e-freestyle/
X-COST-TYPE:free
X-COST:€30\,00
END:VEVENT
BEGIN:VEVENT
UID:ai1ec-6573@www.taekwondotoscana.it
DTSTAMP:20260424T092050Z
CATEGORIES:
CONTACT:Gennaro
DESCRIPTION:
DTSTART;VALUE=DATE:20251122
DTEND;VALUE=DATE:20251124
LOCATION:Taekyon Club @ Tegoleto (AR)
SEQUENCE:0
SUMMARY:Stage di selezione Tuscany Team Forme e Freestyle
URL:https://www.taekwondotoscana.it/evento/stage-di-selezione-tuscany-team-
 forme-e-freestyle-2/
X-COST-TYPE:free
X-COST:€30
END:VEVENT
BEGIN:VEVENT
UID:ai1ec-6574@www.taekwondotoscana.it
DTSTAMP:20260424T092050Z
CATEGORIES:
CONTACT:Gennaro
DESCRIPTION:
DTSTART;VALUE=DATE:20251206
DTEND;VALUE=DATE:20251208
LOCATION:Taekyon Club @ Tegoleto (AR)
SEQUENCE:0
SUMMARY:Stage di selezione Tuscany Team Forme e Freestyle
URL:https://www.taekwondotoscana.it/evento/stage-di-selezione-tuscany-team-
 forme-e-freestyle-3/
X-COST-TYPE:free
X-COST:€30
END:VEVENT
BEGIN:VEVENT
UID:ai1ec-6575@www.taekwondotoscana.it
DTSTAMP:20260424T092050Z
CATEGORIES:
CONTACT:Gennaro
DESCRIPTION:
DTSTART;VALUE=DATE:20251220
DTEND;VALUE=DATE:20251222
LOCATION:Taekyon Club @ Tegoleto (AR)
SEQUENCE:0
SUMMARY:Stage di selezione Tuscany Team Forme e Freestyle
URL:https://www.taekwondotoscana.it/evento/stage-di-selezione-tuscany-team-
 forme-e-freestyle-4/
X-COST-TYPE:free
X-COST:€30
END:VEVENT
BEGIN:VEVENT
UID:ai1ec-6576@www.taekwondotoscana.it
DTSTAMP:20260424T092050Z
CATEGORIES:
CONTACT:Gennaro
DESCRIPTION:
DTSTART;VALUE=DATE:20260110
DTEND;VALUE=DATE:20260112
LOCATION:Taekyon Club @ Tegoleto (AR)
SEQUENCE:0
SUMMARY:Stage di selezione Tuscany Team Forme e Freestyle
URL:https://www.taekwondotoscana.it/evento/stage-di-selezione-tuscany-team-
 forme-e-freestyle-5/
X-COST-TYPE:free
X-COST:€30
END:VEVENT
BEGIN:VEVENT
UID:ai1ec-6577@www.taekwondotoscana.it
DTSTAMP:20260424T092050Z
CATEGORIES:
CONTACT:Gennaro
DESCRIPTION:<p>Le convocazioni saranno diramate a seguito degli stage forma
 tivi e di selezione</p>
DTSTART;VALUE=DATE:20260124
DTEND;VALUE=DATE:20260126
LOCATION:Taekyon Club @ Tegoleto (AR)
SEQUENCE:0
SUMMARY:Raduno squadra regionale Forme e Freestyle
URL:https://www.taekwondotoscana.it/evento/raduno-squadra-regionale-forme-e
 -freestyle/
X-COST-TYPE:free
END:VEVENT
BEGIN:VEVENT
UID:ai1ec-6578@www.taekwondotoscana.it
DTSTAMP:20260424T092050Z
CATEGORIES:
CONTACT:Gennaro
DESCRIPTION:<p>Le convocazioni saranno diramate a seguito degli stage forma
 tivi e di selezione</p>
DTSTART;VALUE=DATE:20260207
DTEND;VALUE=DATE:20260209
LOCATION:Taekyon Club @ Tegoleto (AR)
SEQUENCE:0
SUMMARY:Raduno squadra regionale Forme e Freestyle
URL:https://www.taekwondotoscana.it/evento/raduno-squadra-regionale-forme-e
 -freestyle-2/
X-COST-TYPE:free
END:VEVENT
BEGIN:VEVENT
UID:ai1ec-6386@www.taekwondotoscana.it
DTSTAMP:20260424T092050Z
CATEGORIES:
CONTACT:combattimento@taekwondotoscana.it
DESCRIPTION:<p><b>Classi</b>:</p>\n<ul>\n<li>Cadetti D</li>\n<li>Junior Ros
 se/Nere</li>\n<li>Senior Rosse/Nere</li>\n</ul>\n<p><b>I Candidati devono 
 portare</b>:</p>\n<ul>\n<li>Dobok</li>\n<li>Tutte le protezioni</li>\n<li>
 Colpitore</li>\n</ul>\n<p> </p>
DTSTART;TZID=Europe/Rome:20231008T153000
DTEND;TZID=Europe/Rome:20231008T173000
LOCATION:Palestra federale 'Circolo Grassi' @ via Pistoiese 502 - Prato
SEQUENCE:0
SUMMARY:Raduno regionale open combattimento
URL:https://www.taekwondotoscana.it/evento/raduno-regionale-open-combattime
 nto/
X-COST-TYPE:free
END:VEVENT
BEGIN:VEVENT
UID:ai1ec-6571@www.taekwondotoscana.it
DTSTAMP:20260424T092050Z
CATEGORIES:
CONTACT:Claudia
DESCRIPTION:<p>Iscrizioni tramite Area Riservata FITA</p>\n<p>Biglietti:<a 
 class='ai1ec-ticket-url-exported' href='https://tesseramento.taekwondowtf.
 it'>https://tesseramento.taekwondowtf.it</a>.</p>
DTSTART;TZID=Europe/Rome:20250927T153000
DTEND;TZID=Europe/Rome:20250927T183000
LOCATION:Palestra Circolo Narnali @ Via Pistoiese 502 - Prato
SEQUENCE:0
SUMMARY:Corso di formazione e aggiornamento Udg e Giudice d’Angolo
URL:https://www.taekwondotoscana.it/evento/corso-di-formazione-e-aggiorname
 nto-udg-e-giudice-dangolo/
X-COST-TYPE:external
X-TICKETS-URL:https://tesseramento.taekwondowtf.it
END:VEVENT
END:VCALENDAR
